BEGIN:VCALENDAR
VERSION:2.0
PRODID:-//larrydeeds.com - ECPv6.6.2//NONSGML v1.0//EN
CALSCALE:GREGORIAN
METHOD:PUBLISH
X-WR-CALNAME:larrydeeds.com
X-ORIGINAL-URL:http://larrydeeds.com
X-WR-CALDESC:Events for larrydeeds.com
REFRESH-INTERVAL;VALUE=DURATION:PT1H
X-Robots-Tag:noindex
X-PUBLISHED-TTL:PT1H
BEGIN:VTIMEZONE
TZID:America/Denver
BEGIN:DAYLIGHT
TZOFFSETFROM:-0700
TZOFFSETTO:-0600
TZNAME:MDT
DTSTART:20240310T090000
END:DAYLIGHT
BEGIN:STANDARD
TZOFFSETFROM:-0600
TZOFFSETTO:-0700
TZNAME:MST
DTSTART:20241103T080000
END:STANDARD
END:VTIMEZONE
BEGIN:VEVENT
DTSTART;TZID=America/Denver:20240603T110000
DTEND;TZID=America/Denver:20240626T170000
DTSTAMP:20260420T032856
CREATED:20240620T000422Z
LAST-MODIFIED:20240620T000422Z
UID:468-1717412400-1719421200@larrydeeds.com
SUMMARY:Westlake Village Art Guild's Summer Juried Show
DESCRIPTION:This Juried Show runs from June 3rd to June 26th 2024 and is open from 11AM to 5PM at the Thousand Oaks Community Gallery!
URL:http://larrydeeds.com/event/westlake-village-art-guilds-summer-juried-show/
LOCATION:Thousand Oaks Community Gallery\, 2331-A Borchard Rd.\, Newbury Park\, CA\, 91360\, United States
END:VEVENT
END:VCALENDAR